BEGIN:VCALENDAR
VERSION:2.0
PRODID:-//Texas Historical Shootist Society - ECPv6.15.20//NONSGML v1.0//EN
CALSCALE:GREGORIAN
METHOD:PUBLISH
X-ORIGINAL-URL:https://www.thss.org
X-WR-CALDESC:Events for Texas Historical Shootist Society
REFRESH-INTERVAL;VALUE=DURATION:PT1H
X-Robots-Tag:noindex
X-PUBLISHED-TTL:PT1H
BEGIN:VTIMEZONE
TZID:America/Chicago
BEGIN:DAYLIGHT
TZOFFSETFROM:-0600
TZOFFSETTO:-0500
TZNAME:CDT
DTSTART:20150308T080000
END:DAYLIGHT
BEGIN:STANDARD
TZOFFSETFROM:-0500
TZOFFSETTO:-0600
TZNAME:CST
DTSTART:20151101T070000
END:STANDARD
BEGIN:DAYLIGHT
TZOFFSETFROM:-0600
TZOFFSETTO:-0500
TZNAME:CDT
DTSTART:20160313T080000
END:DAYLIGHT
BEGIN:STANDARD
TZOFFSETFROM:-0500
TZOFFSETTO:-0600
TZNAME:CST
DTSTART:20161106T070000
END:STANDARD
BEGIN:DAYLIGHT
TZOFFSETFROM:-0600
TZOFFSETTO:-0500
TZNAME:CDT
DTSTART:20170312T080000
END:DAYLIGHT
BEGIN:STANDARD
TZOFFSETFROM:-0500
TZOFFSETTO:-0600
TZNAME:CST
DTSTART:20171105T070000
END:STANDARD
END:VTIMEZONE
BEGIN:VEVENT
DTSTART;TZID=America/Chicago:20160213T090000
DTEND;TZID=America/Chicago:20160213T140000
DTSTAMP:20260422T110130
CREATED:20160121T171307Z
LAST-MODIFIED:20160223T150914Z
UID:408-1455354000-1455372000@www.thss.org
SUMMARY:Feb 13 Pre-Trailhead Work Party
DESCRIPTION:THSS will have work parties every Saturday from February 6 to March 5 in order to get Gunsmoke\, Texas ready for Trailhead. Work involved is everything from general carpentry to preparing shooter packets and brochures. \nWork parties start at 9 am each day and generally run until early afternoon. Lunch for workers is provided. \nEach time you help at a work party and arrive on time\, you receive an additional entry towards winning a free gun. So the more you help the club out\, the greater chance you have! \nThe work party gun drawing will be held afer Trailhead at the April THSS Match. See the Events page for a full list of work party dates.
URL:https://www.thss.org/event/feb-13-pre-trailhead-work-party/
LOCATION:Gunsmoke\, Texas\, 1147 FM 1890\, Columbus\, TX\, 78934\, United States
CATEGORIES:Work Parties
END:VEVENT
BEGIN:VEVENT
DTSTART;TZID=America/Chicago:20160206T090000
DTEND;TZID=America/Chicago:20160206T140000
DTSTAMP:20260422T110130
CREATED:20160121T170949Z
LAST-MODIFIED:20160121T171546Z
UID:406-1454749200-1454767200@www.thss.org
SUMMARY:Feb 6 Pre-Trailhead Work Party
DESCRIPTION:THSS will have work parties every Saturday from February 6 to March 5 in order to get Gunsmoke\, Texas ready for Trailhead. Work involved is everything from general carpentry to preparing shooter packets and brochures. \nWork parties start at 9 am each day and generally run until early afternoon. Lunch for workers is provided. \nEach time you help at a work party and arrive on time\, you receive an additional entry towards winning a free gun. So the more you help the club out\, the greater chance you have! \nThe work party gun drawing will be held afer Trailhead at the April THSS Match.  See the Events page for a full list of work party dates.
URL:https://www.thss.org/event/feb-6-pre-trailhead-work-party/
LOCATION:Gunsmoke\, Texas\, 1147 FM 1890\, Columbus\, TX\, 78934\, United States
CATEGORIES:Work Parties
END:VEVENT
END:VCALENDAR