BEGIN:VCALENDAR
VERSION:2.0
PRODID:-//Texas Historical Shootist Society - ECPv6.15.20//NONSGML v1.0//EN
CALSCALE:GREGORIAN
METHOD:PUBLISH
X-ORIGINAL-URL:https://www.thss.org
X-WR-CALDESC:Events for Texas Historical Shootist Society
REFRESH-INTERVAL;VALUE=DURATION:PT1H
X-Robots-Tag:noindex
X-PUBLISHED-TTL:PT1H
BEGIN:VTIMEZONE
TZID:America/Chicago
BEGIN:DAYLIGHT
TZOFFSETFROM:-0600
TZOFFSETTO:-0500
TZNAME:CDT
DTSTART:20190310T080000
END:DAYLIGHT
BEGIN:STANDARD
TZOFFSETFROM:-0500
TZOFFSETTO:-0600
TZNAME:CST
DTSTART:20191103T070000
END:STANDARD
BEGIN:DAYLIGHT
TZOFFSETFROM:-0600
TZOFFSETTO:-0500
TZNAME:CDT
DTSTART:20200308T080000
END:DAYLIGHT
BEGIN:STANDARD
TZOFFSETFROM:-0500
TZOFFSETTO:-0600
TZNAME:CST
DTSTART:20201101T070000
END:STANDARD
BEGIN:DAYLIGHT
TZOFFSETFROM:-0600
TZOFFSETTO:-0500
TZNAME:CDT
DTSTART:20210314T080000
END:DAYLIGHT
BEGIN:STANDARD
TZOFFSETFROM:-0500
TZOFFSETTO:-0600
TZNAME:CST
DTSTART:20211107T070000
END:STANDARD
BEGIN:DAYLIGHT
TZOFFSETFROM:-0600
TZOFFSETTO:-0500
TZNAME:CDT
DTSTART:20220313T080000
END:DAYLIGHT
BEGIN:STANDARD
TZOFFSETFROM:-0500
TZOFFSETTO:-0600
TZNAME:CST
DTSTART:20221106T070000
END:STANDARD
BEGIN:DAYLIGHT
TZOFFSETFROM:-0600
TZOFFSETTO:-0500
TZNAME:CDT
DTSTART:20230312T080000
END:DAYLIGHT
BEGIN:STANDARD
TZOFFSETFROM:-0500
TZOFFSETTO:-0600
TZNAME:CST
DTSTART:20231105T070000
END:STANDARD
BEGIN:DAYLIGHT
TZOFFSETFROM:-0600
TZOFFSETTO:-0500
TZNAME:CDT
DTSTART:20240310T080000
END:DAYLIGHT
BEGIN:STANDARD
TZOFFSETFROM:-0500
TZOFFSETTO:-0600
TZNAME:CST
DTSTART:20241103T070000
END:STANDARD
BEGIN:DAYLIGHT
TZOFFSETFROM:-0600
TZOFFSETTO:-0500
TZNAME:CDT
DTSTART:20250309T080000
END:DAYLIGHT
BEGIN:STANDARD
TZOFFSETFROM:-0500
TZOFFSETTO:-0600
TZNAME:CST
DTSTART:20251102T070000
END:STANDARD
BEGIN:DAYLIGHT
TZOFFSETFROM:-0600
TZOFFSETTO:-0500
TZNAME:CDT
DTSTART:20260308T080000
END:DAYLIGHT
BEGIN:STANDARD
TZOFFSETFROM:-0500
TZOFFSETTO:-0600
TZNAME:CST
DTSTART:20261101T070000
END:STANDARD
BEGIN:DAYLIGHT
TZOFFSETFROM:-0600
TZOFFSETTO:-0500
TZNAME:CDT
DTSTART:20270314T080000
END:DAYLIGHT
BEGIN:STANDARD
TZOFFSETFROM:-0500
TZOFFSETTO:-0600
TZNAME:CST
DTSTART:20271107T070000
END:STANDARD
END:VTIMEZONE
BEGIN:VEVENT
DTSTART;TZID=America/Chicago:20260314T090000
DTEND;TZID=America/Chicago:20260314T130000
DTSTAMP:20260420T150300
CREATED:20260106T024918Z
LAST-MODIFIED:20260106T024918Z
UID:19164-1773478800-1773493200@www.thss.org
SUMMARY:Work Party
DESCRIPTION:THSS will have work parties every in order to get Gunsmoke\, Texas ready for Trailhead. Work involved is everything from general carpentry to preparing shooter packets and brochures. Any help is greatly appreciated.
URL:https://www.thss.org/event/work-party-20/
LOCATION:Gunsmoke\, Texas\, 1147 FM 1890\, Columbus\, TX\, 78934\, United States
CATEGORIES:Work Parties
END:VEVENT
BEGIN:VEVENT
DTSTART;TZID=America/Chicago:20260307T090000
DTEND;TZID=America/Chicago:20260307T130000
DTSTAMP:20260420T150300
CREATED:20260106T024917Z
LAST-MODIFIED:20260106T024917Z
UID:19163-1772874000-1772888400@www.thss.org
SUMMARY:Work Party
DESCRIPTION:THSS will have work parties every in order to get Gunsmoke\, Texas ready for Trailhead. Work involved is everything from general carpentry to preparing shooter packets and brochures. Any help is greatly appreciated.
URL:https://www.thss.org/event/work-party-19/
LOCATION:Gunsmoke\, Texas\, 1147 FM 1890\, Columbus\, TX\, 78934\, United States
CATEGORIES:Work Parties
END:VEVENT
BEGIN:VEVENT
DTSTART;TZID=America/Chicago:20260228T090000
DTEND;TZID=America/Chicago:20260228T130000
DTSTAMP:20260420T150300
CREATED:20260106T024915Z
LAST-MODIFIED:20260106T024915Z
UID:19162-1772269200-1772283600@www.thss.org
SUMMARY:Work Party
DESCRIPTION:THSS will have work parties every in order to get Gunsmoke\, Texas ready for Trailhead. Work involved is everything from general carpentry to preparing shooter packets and brochures. Any help is greatly appreciated.
URL:https://www.thss.org/event/work-party-18/
LOCATION:Gunsmoke\, Texas\, 1147 FM 1890\, Columbus\, TX\, 78934\, United States
CATEGORIES:Work Parties
END:VEVENT
BEGIN:VEVENT
DTSTART;TZID=America/Chicago:20260221T090000
DTEND;TZID=America/Chicago:20260221T130000
DTSTAMP:20260420T150300
CREATED:20260106T024914Z
LAST-MODIFIED:20260106T024914Z
UID:19161-1771664400-1771678800@www.thss.org
SUMMARY:Work Party
DESCRIPTION:THSS will have work parties every in order to get Gunsmoke\, Texas ready for Trailhead. Work involved is everything from general carpentry to preparing shooter packets and brochures. Any help is greatly appreciated.
URL:https://www.thss.org/event/work-party-17/
LOCATION:Gunsmoke\, Texas\, 1147 FM 1890\, Columbus\, TX\, 78934\, United States
CATEGORIES:Work Parties
END:VEVENT
BEGIN:VEVENT
DTSTART;TZID=America/Chicago:20260207T090000
DTEND;TZID=America/Chicago:20260207T130000
DTSTAMP:20260420T150300
CREATED:20260106T024911Z
LAST-MODIFIED:20260106T024911Z
UID:19160-1770454800-1770469200@www.thss.org
SUMMARY:Work Party
DESCRIPTION:THSS will have work parties every in order to get Gunsmoke\, Texas ready for Trailhead. Work involved is everything from general carpentry to preparing shooter packets and brochures. Any help is greatly appreciated.
URL:https://www.thss.org/event/work-party-16/
LOCATION:Gunsmoke\, Texas\, 1147 FM 1890\, Columbus\, TX\, 78934\, United States
CATEGORIES:Work Parties
END:VEVENT
BEGIN:VEVENT
DTSTART;TZID=America/Chicago:20260110T090000
DTEND;TZID=America/Chicago:20260110T130000
DTSTAMP:20260420T150300
CREATED:20260106T024715Z
LAST-MODIFIED:20260106T024715Z
UID:19157-1768035600-1768050000@www.thss.org
SUMMARY:Work Party
DESCRIPTION:THSS will have work parties every in order to get Gunsmoke\, Texas ready for Trailhead. Work involved is everything from general carpentry to preparing shooter packets and brochures. Any help is greatly appreciated.
URL:https://www.thss.org/event/work-party-13/
LOCATION:Gunsmoke\, Texas\, 1147 FM 1890\, Columbus\, TX\, 78934\, United States
CATEGORIES:Work Parties
END:VEVENT
BEGIN:VEVENT
DTSTART;TZID=America/Chicago:20240309T090000
DTEND;TZID=America/Chicago:20240309T130000
DTSTAMP:20260420T150300
CREATED:20240103T162019Z
LAST-MODIFIED:20240103T162020Z
UID:10913-1709974800-1709989200@www.thss.org
SUMMARY:Work Party
DESCRIPTION:THSS will have work parties every in order to get Gunsmoke\, Texas ready for Trailhead. Work involved is everything from general carpentry to preparing shooter packets and brochures. Any help is greatly appreciated.
URL:https://www.thss.org/event/work-party-12/
LOCATION:Gunsmoke\, Texas\, 1147 FM 1890\, Columbus\, TX\, 78934\, United States
CATEGORIES:Work Parties
END:VEVENT
BEGIN:VEVENT
DTSTART;TZID=America/Chicago:20240302T090000
DTEND;TZID=America/Chicago:20240302T130000
DTSTAMP:20260420T150300
CREATED:20240103T162017Z
LAST-MODIFIED:20240103T162017Z
UID:10912-1709370000-1709384400@www.thss.org
SUMMARY:Work Party
DESCRIPTION:THSS will have work parties every in order to get Gunsmoke\, Texas ready for Trailhead. Work involved is everything from general carpentry to preparing shooter packets and brochures. Any help is greatly appreciated.
URL:https://www.thss.org/event/work-party-11/
LOCATION:Gunsmoke\, Texas\, 1147 FM 1890\, Columbus\, TX\, 78934\, United States
CATEGORIES:Work Parties
END:VEVENT
BEGIN:VEVENT
DTSTART;TZID=America/Chicago:20240210T090000
DTEND;TZID=America/Chicago:20240210T130000
DTSTAMP:20260420T150300
CREATED:20240103T162017Z
LAST-MODIFIED:20240103T162017Z
UID:10911-1707555600-1707570000@www.thss.org
SUMMARY:Work Party
DESCRIPTION:THSS will have work parties every in order to get Gunsmoke\, Texas ready for Trailhead. Work involved is everything from general carpentry to preparing shooter packets and brochures. Any help is greatly appreciated.
URL:https://www.thss.org/event/work-party-10/
LOCATION:Gunsmoke\, Texas\, 1147 FM 1890\, Columbus\, TX\, 78934\, United States
CATEGORIES:Work Parties
END:VEVENT
BEGIN:VEVENT
DTSTART;TZID=America/Chicago:20240203T090000
DTEND;TZID=America/Chicago:20240203T130000
DTSTAMP:20260420T150300
CREATED:20240103T162017Z
LAST-MODIFIED:20240103T162017Z
UID:10910-1706950800-1706965200@www.thss.org
SUMMARY:Work Party
DESCRIPTION:THSS will have work parties every in order to get Gunsmoke\, Texas ready for Trailhead. Work involved is everything from general carpentry to preparing shooter packets and brochures. Any help is greatly appreciated.
URL:https://www.thss.org/event/work-party-9/
LOCATION:Gunsmoke\, Texas\, 1147 FM 1890\, Columbus\, TX\, 78934\, United States
CATEGORIES:Work Parties
END:VEVENT
BEGIN:VEVENT
DTSTART;TZID=America/Chicago:20240127T090000
DTEND;TZID=America/Chicago:20240127T130000
DTSTAMP:20260420T150300
CREATED:20240103T162017Z
LAST-MODIFIED:20240103T162017Z
UID:10909-1706346000-1706360400@www.thss.org
SUMMARY:Work Party
DESCRIPTION:THSS will have work parties every in order to get Gunsmoke\, Texas ready for Trailhead. Work involved is everything from general carpentry to preparing shooter packets and brochures. Any help is greatly appreciated.
URL:https://www.thss.org/event/work-party-8/
LOCATION:Gunsmoke\, Texas\, 1147 FM 1890\, Columbus\, TX\, 78934\, United States
CATEGORIES:Work Parties
END:VEVENT
BEGIN:VEVENT
DTSTART;TZID=America/Chicago:20240113T090000
DTEND;TZID=America/Chicago:20240113T130000
DTSTAMP:20260420T150300
CREATED:20240103T162016Z
LAST-MODIFIED:20240103T162016Z
UID:10908-1705136400-1705150800@www.thss.org
SUMMARY:Work Party
DESCRIPTION:THSS will have work parties every in order to get Gunsmoke\, Texas ready for Trailhead. Work involved is everything from general carpentry to preparing shooter packets and brochures. Any help is greatly appreciated.
URL:https://www.thss.org/event/work-party-7/
LOCATION:Gunsmoke\, Texas\, 1147 FM 1890\, Columbus\, TX\, 78934\, United States
CATEGORIES:Work Parties
END:VEVENT
BEGIN:VEVENT
DTSTART;TZID=America/Chicago:20230225T090000
DTEND;TZID=America/Chicago:20230225T130000
DTSTAMP:20260420T150300
CREATED:20221220T231012Z
LAST-MODIFIED:20221220T231012Z
UID:7058-1677315600-1677330000@www.thss.org
SUMMARY:Work Party
DESCRIPTION:THSS will have work parties every in order to get Gunsmoke\, Texas ready for Trailhead. Work involved is everything from general carpentry to preparing shooter packets and brochures. Any help is greatly appreciated.
URL:https://www.thss.org/event/work-party-6/
LOCATION:Gunsmoke\, Texas\, 1147 FM 1890\, Columbus\, TX\, 78934\, United States
CATEGORIES:Work Parties
END:VEVENT
BEGIN:VEVENT
DTSTART;TZID=America/Chicago:20230211T090000
DTEND;TZID=America/Chicago:20230211T130000
DTSTAMP:20260420T150300
CREATED:20221220T231010Z
LAST-MODIFIED:20221220T231010Z
UID:7057-1676106000-1676120400@www.thss.org
SUMMARY:Work Party
DESCRIPTION:THSS will have work parties every in order to get Gunsmoke\, Texas ready for Trailhead. Work involved is everything from general carpentry to preparing shooter packets and brochures. Any help is greatly appreciated.
URL:https://www.thss.org/event/work-party-5/
LOCATION:Gunsmoke\, Texas\, 1147 FM 1890\, Columbus\, TX\, 78934\, United States
CATEGORIES:Work Parties
END:VEVENT
BEGIN:VEVENT
DTSTART;TZID=America/Chicago:20230204T090000
DTEND;TZID=America/Chicago:20230204T130000
DTSTAMP:20260420T150300
CREATED:20221220T231009Z
LAST-MODIFIED:20221220T231009Z
UID:7056-1675501200-1675515600@www.thss.org
SUMMARY:Work Party
DESCRIPTION:THSS will have work parties every in order to get Gunsmoke\, Texas ready for Trailhead. Work involved is everything from general carpentry to preparing shooter packets and brochures. Any help is greatly appreciated.
URL:https://www.thss.org/event/work-party-4/
LOCATION:Gunsmoke\, Texas\, 1147 FM 1890\, Columbus\, TX\, 78934\, United States
CATEGORIES:Work Parties
END:VEVENT
BEGIN:VEVENT
DTSTART;TZID=America/Chicago:20230128T090000
DTEND;TZID=America/Chicago:20230128T130000
DTSTAMP:20260420T150300
CREATED:20221220T231009Z
LAST-MODIFIED:20221220T231009Z
UID:7055-1674896400-1674910800@www.thss.org
SUMMARY:Work Party
DESCRIPTION:THSS will have work parties every in order to get Gunsmoke\, Texas ready for Trailhead. Work involved is everything from general carpentry to preparing shooter packets and brochures. Any help is greatly appreciated.
URL:https://www.thss.org/event/work-party-3/
LOCATION:Gunsmoke\, Texas\, 1147 FM 1890\, Columbus\, TX\, 78934\, United States
CATEGORIES:Work Parties
END:VEVENT
BEGIN:VEVENT
DTSTART;TZID=America/Chicago:20230121T090000
DTEND;TZID=America/Chicago:20230121T130000
DTSTAMP:20260420T150300
CREATED:20221220T231009Z
LAST-MODIFIED:20221220T231009Z
UID:7054-1674291600-1674306000@www.thss.org
SUMMARY:Work Party
DESCRIPTION:THSS will have work parties every in order to get Gunsmoke\, Texas ready for Trailhead. Work involved is everything from general carpentry to preparing shooter packets and brochures. Any help is greatly appreciated.
URL:https://www.thss.org/event/work-party-2/
LOCATION:Gunsmoke\, Texas\, 1147 FM 1890\, Columbus\, TX\, 78934\, United States
CATEGORIES:Work Parties
END:VEVENT
BEGIN:VEVENT
DTSTART;TZID=America/Chicago:20230107T090000
DTEND;TZID=America/Chicago:20230107T130000
DTSTAMP:20260420T150300
CREATED:20221220T231009Z
LAST-MODIFIED:20221220T231009Z
UID:7053-1673082000-1673096400@www.thss.org
SUMMARY:Work Party
DESCRIPTION:THSS will have work parties every in order to get Gunsmoke\, Texas ready for Trailhead. Work involved is everything from general carpentry to preparing shooter packets and brochures. Any help is greatly appreciated.
URL:https://www.thss.org/event/work-party/
LOCATION:Gunsmoke\, Texas\, 1147 FM 1890\, Columbus\, TX\, 78934\, United States
CATEGORIES:Work Parties
END:VEVENT
BEGIN:VEVENT
DTSTART;TZID=America/Chicago:20220305T090000
DTEND;TZID=America/Chicago:20220305T130000
DTSTAMP:20260420T150300
CREATED:20220105T162321Z
LAST-MODIFIED:20220105T162321Z
UID:5010-1646470800-1646485200@www.thss.org
SUMMARY:Mar 5 Pre-Trailhead Work Party
DESCRIPTION:THSS will have work parties every in order to get Gunsmoke\, Texas ready for Trailhead. Work involved is everything from general carpentry to preparing shooter packets and brochures. Any help is greatly appreciated.
URL:https://www.thss.org/event/mar-5-pre-trailhead-work-party-2/
LOCATION:Gunsmoke\, Texas\, 1147 FM 1890\, Columbus\, TX\, 78934\, United States
CATEGORIES:Work Parties
END:VEVENT
BEGIN:VEVENT
DTSTART;TZID=America/Chicago:20220212T090000
DTEND;TZID=America/Chicago:20220212T130000
DTSTAMP:20260420T150300
CREATED:20220105T162317Z
LAST-MODIFIED:20220105T162317Z
UID:5008-1644656400-1644670800@www.thss.org
SUMMARY:Feb 12 Pre-Trailhead Work Party
DESCRIPTION:THSS will have work parties every in order to get Gunsmoke\, Texas ready for Trailhead. Work involved is everything from general carpentry to preparing shooter packets and brochures. Any help is greatly appreciated.
URL:https://www.thss.org/event/feb-12-pre-trailhead-work-party/
LOCATION:Gunsmoke\, Texas\, 1147 FM 1890\, Columbus\, TX\, 78934\, United States
CATEGORIES:Work Parties
END:VEVENT
BEGIN:VEVENT
DTSTART;TZID=America/Chicago:20220129T090000
DTEND;TZID=America/Chicago:20220129T130000
DTSTAMP:20260420T150300
CREATED:20220105T162317Z
LAST-MODIFIED:20220105T162317Z
UID:5006-1643446800-1643461200@www.thss.org
SUMMARY:Jan 29 Pre-Trailhead Work Party
DESCRIPTION:THSS will have work parties every in order to get Gunsmoke\, Texas ready for Trailhead. Work involved is everything from general carpentry to preparing shooter packets and brochures. Any help is greatly appreciated.
URL:https://www.thss.org/event/jan-29-pre-trailhead-work-party/
LOCATION:Gunsmoke\, Texas\, 1147 FM 1890\, Columbus\, TX\, 78934\, United States
CATEGORIES:Work Parties
END:VEVENT
BEGIN:VEVENT
DTSTART;TZID=America/Chicago:20210313T090000
DTEND;TZID=America/Chicago:20210313T140000
DTSTAMP:20260420T150300
CREATED:20201104T205434Z
LAST-MODIFIED:20201104T205434Z
UID:3063-1615626000-1615644000@www.thss.org
SUMMARY:Mar 13 Pre-Trailhead Work Party
DESCRIPTION:THSS will have work parties every non-match Saturday from January 9 to March 13 in order to get Gunsmoke\, Texas ready for Trailhead. Work involved is everything from general carpentry to preparing shooter packets and brochures. Any help is greatly appreciated. \nWork parties start at 9 am each Saturday and generally run until early afternoon. Lunch for workers is usually provided. \nEach time you help at a work party and arrive on time\, you receive an additional entry towards winning a free gun. So the more you help the club out\, the greater chance you have! \nThe work party gun drawing will be held after Trailhead at the April THSS Match.  See the Events page for a full list of work party dates.
URL:https://www.thss.org/event/mar-13-pre-trailhead-work-party/
LOCATION:Gunsmoke\, Texas\, 1147 FM 1890\, Columbus\, TX\, 78934\, United States
CATEGORIES:Work Parties
END:VEVENT
BEGIN:VEVENT
DTSTART;TZID=America/Chicago:20210306T090000
DTEND;TZID=America/Chicago:20210306T140000
DTSTAMP:20260420T150300
CREATED:20201104T205343Z
LAST-MODIFIED:20201104T205343Z
UID:3061-1615021200-1615039200@www.thss.org
SUMMARY:Mar 6 Pre-Trailhead Work Party
DESCRIPTION:THSS will have work parties every non-match Saturday from January 9 to March 13 in order to get Gunsmoke\, Texas ready for Trailhead. Work involved is everything from general carpentry to preparing shooter packets and brochures. Any help is greatly appreciated. \nWork parties start at 9 am each Saturday and generally run until early afternoon. Lunch for workers is usually provided. \nEach time you help at a work party and arrive on time\, you receive an additional entry towards winning a free gun. So the more you help the club out\, the greater chance you have! \nThe work party gun drawing will be held after Trailhead at the April THSS Match.  See the Events page for a full list of work party dates.
URL:https://www.thss.org/event/mar-6-pre-trailhead-work-party/
LOCATION:Gunsmoke\, Texas\, 1147 FM 1890\, Columbus\, TX\, 78934\, United States
CATEGORIES:Work Parties
END:VEVENT
BEGIN:VEVENT
DTSTART;TZID=America/Chicago:20210227T080000
DTEND;TZID=America/Chicago:20210227T170000
DTSTAMP:20260420T150300
CREATED:20201104T205247Z
LAST-MODIFIED:20201104T205247Z
UID:3059-1614412800-1614445200@www.thss.org
SUMMARY:Feb 27 Pre-Trailhead Work Party
DESCRIPTION:THSS will have work parties every non-match Saturday from January 9 to March 13 in order to get Gunsmoke\, Texas ready for Trailhead. Work involved is everything from general carpentry to preparing shooter packets and brochures. Any help is greatly appreciated. \nWork parties start at 9 am each Saturday and generally run until early afternoon. Lunch for workers is usually provided. \nEach time you help at a work party and arrive on time\, you receive an additional entry towards winning a free gun. So the more you help the club out\, the greater chance you have! \nThe work party gun drawing will be held after Trailhead at the April THSS Match.  See the Events page for a full list of work party dates.
URL:https://www.thss.org/event/feb-27-pre-trailhead-work-party-2/
LOCATION:Gunsmoke\, Texas\, 1147 FM 1890\, Columbus\, TX\, 78934\, United States
CATEGORIES:Work Parties
END:VEVENT
BEGIN:VEVENT
DTSTART;TZID=America/Chicago:20210206T090000
DTEND;TZID=America/Chicago:20210206T140000
DTSTAMP:20260420T150300
CREATED:20201104T205046Z
LAST-MODIFIED:20201104T205046Z
UID:3055-1612602000-1612620000@www.thss.org
SUMMARY:Feb 6 Pre-Trailhead Work Party
DESCRIPTION:THSS will have work parties every non-match Saturday from January 9 to March 13 in order to get Gunsmoke\, Texas ready for Trailhead. Work involved is everything from general carpentry to preparing shooter packets and brochures. Any help is greatly appreciated. \nWork parties start at 9 am each Saturday and generally run until early afternoon. Lunch for workers is usually provided. \nEach time you help at a work party and arrive on time\, you receive an additional entry towards winning a free gun. So the more you help the club out\, the greater chance you have! \nThe work party gun drawing will be held after Trailhead at the April THSS Match.  See the Events page for a full list of work party dates.
URL:https://www.thss.org/event/feb-6-pre-trailhead-work-party-2/
LOCATION:Gunsmoke\, Texas\, 1147 FM 1890\, Columbus\, TX\, 78934\, United States
CATEGORIES:Work Parties
END:VEVENT
BEGIN:VEVENT
DTSTART;TZID=America/Chicago:20210130T090000
DTEND;TZID=America/Chicago:20210130T140000
DTSTAMP:20260420T150300
CREATED:20201104T204406Z
LAST-MODIFIED:20201104T204828Z
UID:3050-1611997200-1612015200@www.thss.org
SUMMARY:Jan 30 Pre-Trailhead Work Party
DESCRIPTION:THSS will have work parties every non-match Saturday from January 9 to March 13 in order to get Gunsmoke\, Texas ready for Trailhead. Work involved is everything from general carpentry to preparing shooter packets and brochures. Any help is greatly appreciated. \nWork parties start at 9 am each Saturday and generally run until early afternoon. Lunch for workers is usually provided. \nEach time you help at a work party and arrive on time\, you receive an additional entry towards winning a free gun. So the more you help the club out\, the greater chance you have! \nThe work party gun drawing will be held after Trailhead at the April THSS Match.  See the Events page for a full list of work party dates.
URL:https://www.thss.org/event/jan-30-pre-trailhead-work-party/
LOCATION:Gunsmoke\, Texas\, 1147 FM 1890\, Columbus\, TX\, 78934\, United States
CATEGORIES:Work Parties
END:VEVENT
BEGIN:VEVENT
DTSTART;TZID=America/Chicago:20210123T080000
DTEND;TZID=America/Chicago:20210123T170000
DTSTAMP:20260420T150300
CREATED:20201104T204526Z
LAST-MODIFIED:20201104T204526Z
UID:3052-1611388800-1611421200@www.thss.org
SUMMARY:Jan 23 Pre-Trailhead Work Party
DESCRIPTION:THSS will have work parties every non-match Saturday from January 9 to March 13 in order to get Gunsmoke\, Texas ready for Trailhead. Work involved is everything from general carpentry to preparing shooter packets and brochures. Any help is greatly appreciated. \nWork parties start at 9 am each Saturday and generally run until early afternoon. Lunch for workers is usually provided. \nEach time you help at a work party and arrive on time\, you receive an additional entry towards winning a free gun. So the more you help the club out\, the greater chance you have! \nThe work party gun drawing will be held after Trailhead at the April THSS Match.  See the Events page for a full list of work party dates.
URL:https://www.thss.org/event/jan-23-pre-trailhead-work-party/
LOCATION:TX
CATEGORIES:Work Parties
END:VEVENT
BEGIN:VEVENT
DTSTART;TZID=America/Chicago:20210109T090000
DTEND;TZID=America/Chicago:20210109T140000
DTSTAMP:20260420T150300
CREATED:20201104T204248Z
LAST-MODIFIED:20201104T204248Z
UID:3048-1610182800-1610200800@www.thss.org
SUMMARY:Jan 9 Pre-Trailhead Work Party
DESCRIPTION:THSS will have work parties every non-match Saturday from January 9 to March 13 in order to get Gunsmoke\, Texas ready for Trailhead. Work involved is everything from general carpentry to preparing shooter packets and brochures. Any help is greatly appreciated. \nWork parties start at 9 am each Saturday and generally run until early afternoon. Lunch for workers is usually provided. \nEach time you help at a work party and arrive on time\, you receive an additional entry towards winning a free gun. So the more you help the club out\, the greater chance you have! \nThe work party gun drawing will be held after Trailhead at the April THSS Match.  See the Events page for a full list of work party dates.
URL:https://www.thss.org/event/jan-9-pre-trailhead-work-party/
LOCATION:Gunsmoke\, Texas\, 1147 FM 1890\, Columbus\, TX\, 78934\, United States
CATEGORIES:Work Parties
END:VEVENT
BEGIN:VEVENT
DTSTART;TZID=America/Chicago:20200307T090000
DTEND;TZID=America/Chicago:20200307T150000
DTSTAMP:20260420T150300
CREATED:20200104T194911Z
LAST-MODIFIED:20200104T194911Z
UID:2015-1583571600-1583593200@www.thss.org
SUMMARY:Mar 7 Pre-Trailhead Work Party
DESCRIPTION:THSS will have work parties every non-match Saturday from January 11 to March 7 in order to get Gunsmoke\, Texas ready for Trailhead 2020. Work involved is everything from general carpentry to preparing shooter packets and brochures. Any help is greatly appreciated. \nWork parties start at 9 am each Saturday and generally run until early afternoon. Lunch for workers is provided. \nEach time you help at a work party and arrive on time\, you receive an additional entry towards winning a free gun. So the more you help the club out\, the greater chance you have! \nThe work party gun drawing will be held after Trailhead at the April THSS Match.  See the Events page for a full list of work party dates.
URL:https://www.thss.org/event/mar-7-pre-trailhead-work-party/
LOCATION:Gunsmoke\, Texas\, 1147 FM 1890\, Columbus\, TX\, 78934\, United States
CATEGORIES:Work Parties
END:VEVENT
BEGIN:VEVENT
DTSTART;TZID=America/Chicago:20200229T090000
DTEND;TZID=America/Chicago:20200229T150000
DTSTAMP:20260420T150300
CREATED:20200104T194825Z
LAST-MODIFIED:20200104T194825Z
UID:2013-1582966800-1582988400@www.thss.org
SUMMARY:Feb 29 Pre-Trailhead Work Party
DESCRIPTION:THSS will have work parties every non-match Saturday from January 11 to March 7 in order to get Gunsmoke\, Texas ready for Trailhead 2020. Work involved is everything from general carpentry to preparing shooter packets and brochures. Any help is greatly appreciated. \nWork parties start at 9 am each Saturday and generally run until early afternoon. Lunch for workers is provided. \nEach time you help at a work party and arrive on time\, you receive an additional entry towards winning a free gun. So the more you help the club out\, the greater chance you have! \nThe work party gun drawing will be held after Trailhead at the April THSS Match.  See the Events page for a full list of work party dates.
URL:https://www.thss.org/event/feb-29-pre-trailhead-work-party/
LOCATION:Gunsmoke\, Texas\, 1147 FM 1890\, Columbus\, TX\, 78934\, United States
CATEGORIES:Work Parties
END:VEVENT
END:VCALENDAR