BEGIN:VCALENDAR
VERSION:2.0
PRODID:-//Texas Historical Shootist Society - ECPv6.15.20//NONSGML v1.0//EN
CALSCALE:GREGORIAN
METHOD:PUBLISH
X-WR-CALNAME:Texas Historical Shootist Society
X-ORIGINAL-URL:https://www.thss.org
X-WR-CALDESC:Events for Texas Historical Shootist Society
REFRESH-INTERVAL;VALUE=DURATION:PT1H
X-Robots-Tag:noindex
X-PUBLISHED-TTL:PT1H
BEGIN:VTIMEZONE
TZID:America/Chicago
BEGIN:DAYLIGHT
TZOFFSETFROM:-0600
TZOFFSETTO:-0500
TZNAME:CDT
DTSTART:20150308T080000
END:DAYLIGHT
BEGIN:STANDARD
TZOFFSETFROM:-0500
TZOFFSETTO:-0600
TZNAME:CST
DTSTART:20151101T070000
END:STANDARD
BEGIN:DAYLIGHT
TZOFFSETFROM:-0600
TZOFFSETTO:-0500
TZNAME:CDT
DTSTART:20160313T080000
END:DAYLIGHT
BEGIN:STANDARD
TZOFFSETFROM:-0500
TZOFFSETTO:-0600
TZNAME:CST
DTSTART:20161106T070000
END:STANDARD
BEGIN:DAYLIGHT
TZOFFSETFROM:-0600
TZOFFSETTO:-0500
TZNAME:CDT
DTSTART:20170312T080000
END:DAYLIGHT
BEGIN:STANDARD
TZOFFSETFROM:-0500
TZOFFSETTO:-0600
TZNAME:CST
DTSTART:20171105T070000
END:STANDARD
BEGIN:DAYLIGHT
TZOFFSETFROM:-0600
TZOFFSETTO:-0500
TZNAME:CDT
DTSTART:20180311T080000
END:DAYLIGHT
BEGIN:STANDARD
TZOFFSETFROM:-0500
TZOFFSETTO:-0600
TZNAME:CST
DTSTART:20181104T070000
END:STANDARD
BEGIN:DAYLIGHT
TZOFFSETFROM:-0600
TZOFFSETTO:-0500
TZNAME:CDT
DTSTART:20190310T080000
END:DAYLIGHT
BEGIN:STANDARD
TZOFFSETFROM:-0500
TZOFFSETTO:-0600
TZNAME:CST
DTSTART:20191103T070000
END:STANDARD
BEGIN:DAYLIGHT
TZOFFSETFROM:-0600
TZOFFSETTO:-0500
TZNAME:CDT
DTSTART:20200308T080000
END:DAYLIGHT
BEGIN:STANDARD
TZOFFSETFROM:-0500
TZOFFSETTO:-0600
TZNAME:CST
DTSTART:20201101T070000
END:STANDARD
END:VTIMEZONE
BEGIN:VEVENT
DTSTART;TZID=America/Chicago:20190321T100000
DTEND;TZID=America/Chicago:20190321T180000
DTSTAMP:20260422T063345
CREATED:20181130T191021Z
LAST-MODIFIED:20181130T191510Z
UID:1301-1553162400-1553191200@www.thss.org
SUMMARY:Trailhead 2019 Day 1: Check-In
DESCRIPTION:Trailhead competitors that wish to get their information packet early can do so on the first day of shooting.
URL:https://www.thss.org/event/trailhead-2019-day-1-check-in/
LOCATION:Gunsmoke\, Texas\, 1147 FM 1890\, Columbus\, TX\, 78934\, United States
CATEGORIES:Trailhead
END:VEVENT
BEGIN:VEVENT
DTSTART;VALUE=DATE:20190321
DTEND;VALUE=DATE:20190325
DTSTAMP:20260422T063345
CREATED:20170327T195452Z
LAST-MODIFIED:20170327T195531Z
UID:902-1553126400-1553471999@www.thss.org
SUMMARY:THSS Trailhead 2019
DESCRIPTION:Mark your calendars for Trailhead 2019\, which will be March 21-24\, 2019. \nFor full details on the event\, see our main Trailhead webpage.
URL:https://www.thss.org/event/thss-trailhead-2019/
LOCATION:Gunsmoke\, Texas\, 1147 FM 1890\, Columbus\, TX\, 78934\, United States
CATEGORIES:Matches,Trailhead
END:VEVENT
BEGIN:VEVENT
DTSTART;TZID=America/Chicago:20180325T090000
DTEND;TZID=America/Chicago:20180325T130000
DTSTAMP:20260422T063345
CREATED:20170817T182332Z
LAST-MODIFIED:20170817T182332Z
UID:1011-1521968400-1521982800@www.thss.org
SUMMARY:THSS Trailhead 2018 Day 4: Side Matches
DESCRIPTION:The final day of Trailhead features three different side matches.  The fun starts at 9:00 am. \nMaster Gunfighter  \nThis “mano y mano” match pits two shooters against each other to see who can shoot five drop down targets in the fastest time.  Shooters pair up and compete\, winner moves on. \nCouples Shoot \nThis is a fun husband-and-wife match where couples work together on a stage that uses several buildings at Gunsmoke.  Teamwork is key\, as sometimes they might have to do humorous things such as hold hands when moving between buildings. \nTeam Shoot \nCompetitors are randomly drawn into groups of four and compete against the other groups.
URL:https://www.thss.org/event/thss-trailhead-2018-day-4-side-matches/
LOCATION:Gunsmoke\, Texas\, 1147 FM 1890\, Columbus\, TX\, 78934\, United States
CATEGORIES:Trailhead
END:VEVENT
BEGIN:VEVENT
DTSTART;TZID=America/Chicago:20180324T183000
DTEND;TZID=America/Chicago:20180324T220000
DTSTAMP:20260422T063345
CREATED:20170817T182131Z
LAST-MODIFIED:20170817T182708Z
UID:1009-1521916200-1521928800@www.thss.org
SUMMARY:THSS Trailhead 2018 Awards Banquet
DESCRIPTION:Ellinger Community Center\nThe Trailhead closing ceremony and banquet will be at the Ellinger Community Center in nearby Ellinger (104 W Colorado Sky Street). \nThe awards banquet will feature a presentation for match category awards\, door prizes\, and a costume contest. \nAll registered shooters must attend the banquet in full and appropriate cowboy attire.  Any shooter not following these costuming rules will be ineligible for any match awards or door prizes.
URL:https://www.thss.org/event/thss-trailhead-2018-awards-banquet/
LOCATION:Ellinger Community Center\, 104 W Colorado Sky St\, Ellinger\, TX\, 78938\, United States
CATEGORIES:Banquets,Trailhead
END:VEVENT
BEGIN:VEVENT
DTSTART;TZID=America/Chicago:20180324T083000
DTEND;TZID=America/Chicago:20180324T140000
DTSTAMP:20260422T063345
CREATED:20170817T181937Z
LAST-MODIFIED:20170817T181937Z
UID:1007-1521880200-1521900000@www.thss.org
SUMMARY:THSS Trailhead 2018 Day 3: Main Match
DESCRIPTION:Trailhead Day 3: Main Match Part II\n  \n\n\n\n8:30 am\nMandatory Safety Meeting\n\n\n9:00 am\nShoot main stages
URL:https://www.thss.org/event/thss-trailhead-2018-day-3-main-match/
LOCATION:Gunsmoke\, Texas\, 1147 FM 1890\, Columbus\, TX\, 78934\, United States
CATEGORIES:Trailhead
END:VEVENT
BEGIN:VEVENT
DTSTART;TZID=America/Chicago:20180323T180000
DTEND;TZID=America/Chicago:20180323T180000
DTSTAMP:20260422T063345
CREATED:20170817T181753Z
LAST-MODIFIED:20170817T182359Z
UID:1005-1521828000-1521828000@www.thss.org
SUMMARY:THSS Trailhead 2018 Day 2: Friday Night Social
DESCRIPTION:Friday evening\, there will be a Friday Night Social located on the grounds at Gunsmoke\, Texas. The event will start at 6:00 pm. Attendees will enjoy a hearty supper\, Side Match Awards thus far\, and also the opportunity to partake in various door prize drawings. \nThe Friday Night Social is free for all registered Trailhead Shooters. Competitors may elect to purchase $10 Guest tickets when submitting their Trailhead application.
URL:https://www.thss.org/event/thss-trailhead-2018-day-2-friday-night-social/
LOCATION:Gunsmoke\, Texas\, 1147 FM 1890\, Columbus\, TX\, 78934\, United States
CATEGORIES:Banquets,Trailhead
END:VEVENT
BEGIN:VEVENT
DTSTART;TZID=America/Chicago:20180323T070000
DTEND;TZID=America/Chicago:20180323T160000
DTSTAMP:20260422T063345
CREATED:20170817T181454Z
LAST-MODIFIED:20170817T181454Z
UID:1003-1521788400-1521820800@www.thss.org
SUMMARY:THSS Trailhead 2018 Day 2: Main Match
DESCRIPTION:Trailhead Day 2: Main Match Part I\n\n\n\n7:00 am -8:30 am\nShooter Check-in\n\n\n8:30 am\nOpening Ceremony & Mandatory Safety Meeting\n\n\n9:00 am\nShoot main stages\n\n\n~ 2:00 pm\nLong Range Big Bore Side Match (after main stages completed)\n\n\n6:00 pm\nFriday Night Social
URL:https://www.thss.org/event/thss-trailhead-2018-day-2-main-match/
LOCATION:Gunsmoke\, Texas\, 1147 FM 1890\, Columbus\, TX\, 78934\, United States
CATEGORIES:Trailhead
END:VEVENT
BEGIN:VEVENT
DTSTART;TZID=America/Chicago:20180322T130000
DTEND;TZID=America/Chicago:20180322T210000
DTSTAMP:20260422T063345
CREATED:20170817T181307Z
LAST-MODIFIED:20170817T181307Z
UID:1001-1521723600-1521752400@www.thss.org
SUMMARY:THSS Trailhead 2018 Day 1: Side Matches
DESCRIPTION:Who is the fastest gun?  Find out Day 1 at Trailhead when most side matches are held. Shooters compete using their main match firearms and can also try their hand at competing with lesser-used firearms such as pocket pistols and derringers. \n\nFastest Pistol\nFastest Rifle\nFastest Shotgun 97 & 87\nFastest Double Barrel\nFastest Pocket Pistol\nFastest Derringer\n.22 Side Match\nBig Bore Lever\nBig Bore Single Shot\nPlainsman\nNight Shoot
URL:https://www.thss.org/event/thss-trailhead-2018-day-1-side-matches/
LOCATION:Gunsmoke\, Texas\, 1147 FM 1890\, Columbus\, TX\, 78934\, United States
CATEGORIES:Trailhead
END:VEVENT
BEGIN:VEVENT
DTSTART;TZID=America/Chicago:20180322T100000
DTEND;TZID=America/Chicago:20180322T180000
DTSTAMP:20260422T063345
CREATED:20170817T180941Z
LAST-MODIFIED:20170817T181024Z
UID:997-1521712800-1521741600@www.thss.org
SUMMARY:THSS Trailhead 2018 Day 1: Check-In
DESCRIPTION:Trailhead competitors that wish to get their information packet early can do so on the first day of shooting.
URL:https://www.thss.org/event/thss-trailhead-2018-day-1-check-in-2/
LOCATION:Gunsmoke\, Texas\, 1147 FM 1890\, Columbus\, TX\, 78934\, United States
CATEGORIES:Trailhead
END:VEVENT
BEGIN:VEVENT
DTSTART;VALUE=DATE:20180322
DTEND;VALUE=DATE:20180326
DTSTAMP:20260422T063345
CREATED:20170327T195218Z
LAST-MODIFIED:20170817T182510Z
UID:900-1521676800-1522022399@www.thss.org
SUMMARY:THSS Trailhead 2018
DESCRIPTION:Mark your calendars for Trailhead 2018\, which will be March 22-25\, 2018. \nFor full details on the event\, see our main Trailhead webpage.
URL:https://www.thss.org/event/thss-trailhead-2018/
LOCATION:Gunsmoke\, Texas\, 1147 FM 1890\, Columbus\, TX\, 78934\, United States
CATEGORIES:Matches,Trailhead
ATTACH;FMTTYPE=image/png:https://www.thss.org/wp-content/uploads/2015/08/cropped-thss-site-icon-512px.png
END:VEVENT
BEGIN:VEVENT
DTSTART;TZID=America/Chicago:20170326T090000
DTEND;TZID=America/Chicago:20170326T120000
DTSTAMP:20260422T063345
CREATED:20161219T204102Z
LAST-MODIFIED:20161219T205132Z
UID:844-1490518800-1490529600@www.thss.org
SUMMARY:THSS Trailhead 2017 Day 4: Side Matches
DESCRIPTION:The final day of Trailhead features three different side matches.  The fun starts at 9:00 am. \nMaster Gunfighter  \nThis “mano y mano” match pits two shooters against each other to see who can shoot five drop down targets in the fastest time.  Shooters pair up and compete\, winner moves on. \nCouples Shoot \nThis is a fun husband-and-wife match where couples work together on a stage that uses several buildings at Gunsmoke.  Teamwork is key\, as sometimes they might have to do humorous things such as hold hands when moving between buildings. \nTeam Shoot \nCompetitors are randomly drawn into groups of four and compete against the other groups.
URL:https://www.thss.org/event/thss-trailhead-2017-day-4-side-matches/
LOCATION:Gunsmoke\, Texas\, 1147 FM 1890\, Columbus\, TX\, 78934\, United States
CATEGORIES:Trailhead
END:VEVENT
BEGIN:VEVENT
DTSTART;TZID=America/Chicago:20170325T183000
DTEND;TZID=America/Chicago:20170325T220000
DTSTAMP:20260422T063345
CREATED:20161219T203924Z
LAST-MODIFIED:20161219T204645Z
UID:842-1490466600-1490479200@www.thss.org
SUMMARY:THSS Trailhead 2017 Awards Banquet
DESCRIPTION:Ellinger Community Center\nThe Trailhead 2017 closing ceremony and banquet will be at the Ellinger Community Center in nearby Ellinger (104 W Colorado Sky Street). \nThe awards banquet will feature a presentation for match category awards\, door prizes\, and a costume contest. \nAll registered shooters must attend the banquet in full and appropriate cowboy attire.  Any shooter not following these costuming rules will be ineligible for any match awards or door prizes.
URL:https://www.thss.org/event/thss-trailhead-2017-awards-banquet/
LOCATION:Ellinger Community Center\, 104 W Colorado Sky St\, Ellinger\, TX\, 78938\, United States
CATEGORIES:Banquets,Trailhead
END:VEVENT
BEGIN:VEVENT
DTSTART;TZID=America/Chicago:20170325T083000
DTEND;TZID=America/Chicago:20170325T140000
DTSTAMP:20260422T063345
CREATED:20161219T203700Z
LAST-MODIFIED:20161219T205034Z
UID:840-1490430600-1490450400@www.thss.org
SUMMARY:THSS Trailhead 2017 Day 3: Main Match
DESCRIPTION:Trailhead Day 3: Main Match\n  \n\n\n\n8:30 am\nMandatory Safety Meeting\n\n\n9:00 am\nShoot main stages\n\n\n\n 
URL:https://www.thss.org/event/thss-trailhead-2017-day-3-main-match-2/
LOCATION:Gunsmoke\, Texas\, 1147 FM 1890\, Columbus\, TX\, 78934\, United States
CATEGORIES:Trailhead
END:VEVENT
BEGIN:VEVENT
DTSTART;TZID=America/Chicago:20170324T180000
DTEND;TZID=America/Chicago:20170324T220000
DTSTAMP:20260422T063345
CREATED:20161219T203342Z
LAST-MODIFIED:20161219T205107Z
UID:835-1490378400-1490392800@www.thss.org
SUMMARY:THSS Trailhead 2017 Day 2: Friday Night Social
DESCRIPTION:New for Trailhead 2017 will be a Friday Night Social located on the grounds at Gunsmoke\, Texas. The event will start at 6:00 pm. Attendees will enjoy a chuckwagon-style supper\, Side Match Awards from the day\, and also the opportunity to partake in various door prize drawings. \nThe Friday Night Social is free for all registered Trailhead Shooters. Competitors may elect to purchase $10 Guest tickets when submitting their Trailhead application. \nClick for Full-Size Ad
URL:https://www.thss.org/event/thss-trailhead-2017-day-2-friday-night-social/
LOCATION:Gunsmoke\, Texas\, 1147 FM 1890\, Columbus\, TX\, 78934\, United States
CATEGORIES:Banquets,Trailhead
END:VEVENT
BEGIN:VEVENT
DTSTART;TZID=America/Chicago:20170324T070000
DTEND;TZID=America/Chicago:20170324T160000
DTSTAMP:20260422T063345
CREATED:20161219T195533Z
LAST-MODIFIED:20161219T204353Z
UID:831-1490338800-1490371200@www.thss.org
SUMMARY:THSS Trailhead 2017 Day 2: Main Match
DESCRIPTION:Trailhead Day 2: Main Match\n\n\n\n7:00 am -8:30 am\nShooter Check-in\n\n\n8:30 am\nOpening Ceremony & Mandatory Safety Meeting\n\n\n9:00 am\nShoot main stages\n\n\n~ 2:00 pm\nLong Range Big Bore Side Match (after main stages completed)\n\n\n6:00 pm\nFriday Night Social
URL:https://www.thss.org/event/thss-trailhead-2017-day-2-main-match/
LOCATION:Gunsmoke\, Texas\, 1147 FM 1890\, Columbus\, TX\, 78934\, United States
CATEGORIES:Trailhead
END:VEVENT
BEGIN:VEVENT
DTSTART;TZID=America/Chicago:20170323T130000
DTEND;TZID=America/Chicago:20170323T210000
DTSTAMP:20260422T063345
CREATED:20161219T195147Z
LAST-MODIFIED:20161219T195147Z
UID:829-1490274000-1490302800@www.thss.org
SUMMARY:THSS Trailhead 2017 Day 1: Side Matches
DESCRIPTION:Trailhead Side Matches\nWho is the fastest gun?  Find out Day 1 at Trailhead when most side matches are held. Shooters compete using their main match firearms and can also try their hand at competing with lesser-used firearms such as pocket pistols and derringers. \nCategories\n\nFastest Pistol\nFastest Rifle\nFastest Shotgun 97 & 87\nFastest Double Barrel\nFastest Pocket Pistol\nFastest Derringer\n.22 Side Match\nBig Bore Lever\nBig Bore Single Shot\nNight Shoot
URL:https://www.thss.org/event/thss-trailhead-2017-day-1-side-matches/
LOCATION:Gunsmoke\, Texas\, 1147 FM 1890\, Columbus\, TX\, 78934\, United States
CATEGORIES:Trailhead
END:VEVENT
BEGIN:VEVENT
DTSTART;TZID=America/Chicago:20170323T100000
DTEND;TZID=America/Chicago:20170323T180000
DTSTAMP:20260422T063345
CREATED:20161219T194857Z
LAST-MODIFIED:20161219T194857Z
UID:827-1490263200-1490292000@www.thss.org
SUMMARY:THSS Trailhead 2017 Day 1: Check-In
DESCRIPTION:Trailhead competitors that wish to get their information packet early can do so on the first day of shooting.
URL:https://www.thss.org/event/thss-trailhead-2017-day-1-check-in/
LOCATION:Gunsmoke\, Texas\, 1147 FM 1890\, Columbus\, TX\, 78934\, United States
CATEGORIES:Trailhead
END:VEVENT
BEGIN:VEVENT
DTSTART;VALUE=DATE:20170323
DTEND;VALUE=DATE:20170327
DTSTAMP:20260422T063345
CREATED:20160928T145410Z
LAST-MODIFIED:20161219T205543Z
UID:729-1490227200-1490572799@www.thss.org
SUMMARY:THSS Trailhead 2017
DESCRIPTION:Mark your calendars for Trailhead 2017\, which will be March 23-26\, 2017. \nFor full details on the event\, see our main Trailhead webpage.
URL:https://www.thss.org/event/thss-trailhead-2017/
LOCATION:Gunsmoke\, Texas\, 1147 FM 1890\, Columbus\, TX\, 78934\, United States
CATEGORIES:Matches,Trailhead
END:VEVENT
BEGIN:VEVENT
DTSTART;TZID=America/Chicago:20160320T090000
DTEND;TZID=America/Chicago:20160320T120000
DTSTAMP:20260422T063345
CREATED:20150817T175335Z
LAST-MODIFIED:20160102T210614Z
UID:230-1458464400-1458475200@www.thss.org
SUMMARY:THSS Trailhead 2016 Day 4: Side Matches
DESCRIPTION:The final day of Trailhead 2016 features three different side matches.  The fun starts at 9:00 am. \nMaster Gunfighter  \nThis “mano y mano” match pits two shooters against each other to see who can shoot five drop down targets in the fastest time.  Shooters pair up and compete\, winner moves on. \nCouples Shoot \nThis is a fun husband-and-wife match where couples work together on a stage that uses several buildings at Gunsmoke.  Teamwork is key\, as sometimes they might have to do humorous things such as hold hands when moving between buildings. \nTeam Shoot \nCompetitors are randomly drawn into groups of four and compete against the other groups.
URL:https://www.thss.org/event/thss-trailhead-2016-day-4-side-matches/
LOCATION:Gunsmoke\, Texas\, 1147 FM 1890\, Columbus\, TX\, 78934\, United States
CATEGORIES:Matches,Trailhead
END:VEVENT
BEGIN:VEVENT
DTSTART;TZID=America/Chicago:20160319T183000
DTEND;TZID=America/Chicago:20160319T220000
DTSTAMP:20260422T063345
CREATED:20150817T174140Z
LAST-MODIFIED:20151122T213908Z
UID:229-1458412200-1458424800@www.thss.org
SUMMARY:THSS Trailhead 25th Anniversary Banquet
DESCRIPTION:Ellinger Community Center\nThe Trailhead 2016 closing ceremony and banquet will be at the Ellinger Community Center in nearby Ellinger (104 W Colorado Sky Street). \nThe awards banquet will feature a presentation for match category awards\, door prizes\, and a costume contest. \nAll registered shooters must attend the banquet in full and appropriate cowboy attire.  Any shooter not following these costuming rules will be ineligible for any match awards or door prizes.
URL:https://www.thss.org/event/thss-trailhead-25th-anniversary-banquet/
LOCATION:Ellinger Community Center\, 104 W Colorado Sky St\, Ellinger\, TX\, 78938\, United States
CATEGORIES:Banquets,Trailhead
END:VEVENT
BEGIN:VEVENT
DTSTART;TZID=America/Chicago:20160319T083000
DTEND;TZID=America/Chicago:20160319T140000
DTSTAMP:20260422T063345
CREATED:20150817T171720Z
LAST-MODIFIED:20150817T171817Z
UID:225-1458376200-1458396000@www.thss.org
SUMMARY:THSS Trailhead 2016 Day 3: Main Match
DESCRIPTION:Trailhead Day 3: Main Match\n  \n\n\n\n8:30 am\nMandatory Safety Meeting\n\n\n9:00 am\nShoot main stages
URL:https://www.thss.org/event/thss-trailhead-2016-day-3-main-match/
LOCATION:Gunsmoke\, Texas\, 1147 FM 1890\, Columbus\, TX\, 78934\, United States
CATEGORIES:Matches,Trailhead
END:VEVENT
BEGIN:VEVENT
DTSTART;TZID=America/Chicago:20160318T070000
DTEND;TZID=America/Chicago:20160318T180000
DTSTAMP:20260422T063345
CREATED:20150817T171159Z
LAST-MODIFIED:20150817T171908Z
UID:224-1458284400-1458324000@www.thss.org
SUMMARY:THSS Trailhead 2016 Day 2: Main Match
DESCRIPTION:Trailhead Day 2: Main Match\n\n\n\n7:00 am -8:30 am\nShooter Check-in\n\n\n8:30 am\nOpening Ceremony & Mandatory Safety Meeting\n\n\n9:00 am\nShoot main stages\n\n\n~ 2:00 pm\nLong Range Big Bore Side Match (after main stages completed)\n\n\nEvening\nEntertainment TBA
URL:https://www.thss.org/event/thss-trailhead-2016-day-2-main-match/
LOCATION:Gunsmoke\, Texas\, 1147 FM 1890\, Columbus\, TX\, 78934\, United States
CATEGORIES:Matches,Trailhead
END:VEVENT
BEGIN:VEVENT
DTSTART;TZID=America/Chicago:20160317T130000
DTEND;TZID=America/Chicago:20160317T210000
DTSTAMP:20260422T063345
CREATED:20150817T163805Z
LAST-MODIFIED:20150817T170411Z
UID:223-1458219600-1458248400@www.thss.org
SUMMARY:THSS Trailhead 2016 Day 1: Side Matches
DESCRIPTION:Trailhead Side Matches\nWho is the fastest gun?  Find out Day 1 at Trailhead when most side matches are held. Shooters compete using their main match firearms and can also try their hand at competing with lessor-used firearms such as pocket pistols and derringers. \nCategories\nFastest Pistol\nFastest Rifle\nFastest Shotgun 97 & 87\nFastest Double Barrel\nFastest Pocket Pistol\nFastest Derringer\n.22 Side Match\nBig Bore Lever\nBig Bore Single Shot\nNight Shoot
URL:https://www.thss.org/event/thss-trailhead-2016-day-1-side-matches/
LOCATION:Gunsmoke\, Texas\, 1147 FM 1890\, Columbus\, TX\, 78934\, United States
CATEGORIES:Matches,Trailhead
END:VEVENT
BEGIN:VEVENT
DTSTART;TZID=America/Chicago:20160317T100000
DTEND;TZID=America/Chicago:20160317T180000
DTSTAMP:20260422T063345
CREATED:20150817T162533Z
LAST-MODIFIED:20150817T162533Z
UID:222-1458208800-1458237600@www.thss.org
SUMMARY:THSS Trailhead 2016 Day 1: Check-In
DESCRIPTION:Trailhead competitors that wish to get their information packet early can do so on the first day of shooting.
URL:https://www.thss.org/event/thss-trailhead-2016-day-1-check-in/
LOCATION:Gunsmoke\, Texas\, 1147 FM 1890\, Columbus\, TX\, 78934\, United States
CATEGORIES:Trailhead
END:VEVENT
BEGIN:VEVENT
DTSTART;VALUE=DATE:20160317
DTEND;VALUE=DATE:20160321
DTSTAMP:20260422T063345
CREATED:20150520T015151Z
LAST-MODIFIED:20151123T162135Z
UID:37-1458172800-1458518399@www.thss.org
SUMMARY:THSS Trailhead 2016
DESCRIPTION:2016 marks the 25th anniversary of Trailhead.  It will be a shooting experience you won’t want to miss!  Full details at the main Trailhead page on our website. \n  \nTrailhead 2016 Application
URL:https://www.thss.org/event/thss-trailhead-2016/
LOCATION:Gunsmoke\, Texas\, 1147 FM 1890\, Columbus\, TX\, 78934\, United States
CATEGORIES:Matches,Trailhead
END:VEVENT
END:VCALENDAR