BEGIN:VCALENDAR
VERSION:2.0
PRODID:-//Texas Historical Shootist Society - ECPv6.15.20//NONSGML v1.0//EN
CALSCALE:GREGORIAN
METHOD:PUBLISH
X-ORIGINAL-URL:https://www.thss.org
X-WR-CALDESC:Events for Texas Historical Shootist Society
REFRESH-INTERVAL;VALUE=DURATION:PT1H
X-Robots-Tag:noindex
X-PUBLISHED-TTL:PT1H
BEGIN:VTIMEZONE
TZID:America/Chicago
BEGIN:DAYLIGHT
TZOFFSETFROM:-0600
TZOFFSETTO:-0500
TZNAME:CDT
DTSTART:20180311T080000
END:DAYLIGHT
BEGIN:STANDARD
TZOFFSETFROM:-0500
TZOFFSETTO:-0600
TZNAME:CST
DTSTART:20181104T070000
END:STANDARD
BEGIN:DAYLIGHT
TZOFFSETFROM:-0600
TZOFFSETTO:-0500
TZNAME:CDT
DTSTART:20190310T080000
END:DAYLIGHT
BEGIN:STANDARD
TZOFFSETFROM:-0500
TZOFFSETTO:-0600
TZNAME:CST
DTSTART:20191103T070000
END:STANDARD
BEGIN:DAYLIGHT
TZOFFSETFROM:-0600
TZOFFSETTO:-0500
TZNAME:CDT
DTSTART:20200308T080000
END:DAYLIGHT
BEGIN:STANDARD
TZOFFSETFROM:-0500
TZOFFSETTO:-0600
TZNAME:CST
DTSTART:20201101T070000
END:STANDARD
END:VTIMEZONE
BEGIN:VEVENT
DTSTART;TZID=America/Chicago:20190216T130000
DTEND;TZID=America/Chicago:20190216T170000
DTSTAMP:20260422T140931
CREATED:20181210T032506Z
LAST-MODIFIED:20181220T211627Z
UID:1347-1550322000-1550336400@www.thss.org
SUMMARY:SASS Range Operations II Course (RO II)
DESCRIPTION:Instructor: Texas Jack Daniels
URL:https://www.thss.org/event/sass-range-operations-ii-course-ro-ii/
LOCATION:Gunsmoke\, Texas\, 1147 FM 1890\, Columbus\, TX\, 78934\, United States
CATEGORIES:Courses
ORGANIZER;CN="Texas Jack Daniels":MAILTO:txtjd@sbcglobal.net
END:VEVENT
BEGIN:VEVENT
DTSTART;TZID=America/Chicago:20190119T130000
DTEND;TZID=America/Chicago:20190119T170000
DTSTAMP:20260422T140931
CREATED:20181210T032234Z
LAST-MODIFIED:20181220T211442Z
UID:1344-1547902800-1547917200@www.thss.org
SUMMARY:SASS Range Operations I Course (RO I)
DESCRIPTION:Instructor: Texas Jack Daniels
URL:https://www.thss.org/event/sass-ro1-course/
LOCATION:Gunsmoke\, Texas\, 1147 FM 1890\, Columbus\, TX\, 78934\, United States
CATEGORIES:Courses
ORGANIZER;CN="Texas Jack Daniels":MAILTO:txtjd@sbcglobal.net
END:VEVENT
END:VCALENDAR